BEGIN:VCALENDAR
VERSION:2.0
PRODID:-//ChamberMaster//Event Calendar 2.0//EN
METHOD:PUBLISH
X-PUBLISHED-TTL:P3D
REFRESH-INTERVAL:P3D
CALSCALE:GREGORIAN
BEGIN:VEVENT
DTSTART:20250427T160000Z
DTEND:20250428T000000Z
X-MICROSOFT-CDO-ALLDAYEVENT:FALSE
SUMMARY:11th Annual Feed the Need - Benefit Concert & Fish Fry
DESCRIPTION:Join us for the 11th Annual FEED THE NEED Benefit Concert and Fish Fry on Sunday\, April 27\, 2025 at the Government Street Grocery in downtown Ocean Springs. All proceeds benefit The Lord Is My Help\n\nCommunity Kitchen.\n\n\n\nGet ready for a full day of music\, featuring The Queen of Country Cajun: Amanda Shaw!\, as well as critically-acclaimed singer-songwriter Cary Hudson\, and local favorites The Karate Kids\,\n\nGram Rea\, and Ty Taylor.\n\n\n\nThis year's event will be filled with family-friendly activities including a fish fry\, live music\, a kid's play area\, silent auction items\, and raffle baskets. \n\n\n\nSponsorship levels for the 11th Annual Feed the Need are available and range from $100 - $5\,000. For additional information about Feed the Need or sponsorships\, please contact Sarah Reese at 228-860-7278 or feedtheneedos@gmail.com.
X-ALT-DESC;FMTTYPE=text/html:Join us for the <strong>11th Annual FEED THE NEED Benefit Concert and Fish Fry</strong> on Sunday\, April 27\, 2025 at the Government Street Grocery in downtown Ocean Springs. All proceeds benefit The Lord Is My Help<br />\nCommunity Kitchen.<br />\n<br />\nGet ready for a full day of music\, featuring The Queen of Country Cajun: Amanda Shaw!\, as well as critically-acclaimed singer-songwriter Cary Hudson\, and local favorites The Karate Kids\,<br />\nGram Rea\, and Ty Taylor.<br />\n<br />\nThis year&rsquo\;s event will be filled with family-friendly activities including a fish fry\, live music\, a kid&rsquo\;s play area\, silent auction items\, and raffle baskets.&nbsp\;<br />\n<br />\nSponsorship levels for the 11th Annual Feed the Need are available and range from $100 - $5\,000. For additional information about Feed the Need or sponsorships\, please contact Sarah Reese at 228-860-7278 or feedtheneedos@gmail.com.
LOCATION:The Government Street Grocery
UID:e.2667.33405
SEQUENCE:3
DTSTAMP:20260421T163838Z
URL:https://mscoastchamber.com/events/details/11th-annual-feed-the-need-benefit-concert-fish-fry-33405
END:VEVENT

END:VCALENDAR
