BEGIN:VCALENDAR
VERSION:2.0
PRODID:-//ChamberMaster//Event Calendar 2.0//EN
METHOD:PUBLISH
X-PUBLISHED-TTL:P3D
REFRESH-INTERVAL:P3D
CALSCALE:GREGORIAN
BEGIN:VEVENT
DTSTART:20260912T140000Z
DTEND:20260913T020000Z
X-MICROSOFT-CDO-ALLDAYEVENT:FALSE
SUMMARY:45th Annual Biloxi Seafood Festival
DESCRIPTION:45th Annual Biloxi Seafood Festival\, Biloxi Chamber of Commerce's biggest fundraiser\, is a celebration of seafood heritage in the City of Biloxi. Attendees will enjoy live entertainment\, arts and crafts\, and the best seafood on the Mississippi Gulf Coast.
X-ALT-DESC;FMTTYPE=text/html:<div style="text-align: center\;">&nbsp\;</div>\n45th Annual Biloxi Seafood Festival\, Biloxi Chamber of Commerce&#39\;s biggest fundraiser\, is a celebration of seafood heritage in the City of Biloxi. Attendees will enjoy live entertainment\, arts and crafts\, and the best seafood on the Mississippi Gulf Coast.&nbsp\;<br />\n<br />\n&nbsp\;
LOCATION:Biloxi Town Green 710 Beach Blvd. Biloxi\, MS 39530
UID:e.2667.34360
SEQUENCE:3
DTSTAMP:20260426T035918Z
URL:https://mscoastchamber.com/events/details/45th-annual-biloxi-seafood-festival-34360
END:VEVENT

END:VCALENDAR
