BEGIN:VCALENDAR
VERSION:2.0
PRODID:-//ChamberMaster//Event Calendar 2.0//EN
METHOD:PUBLISH
X-PUBLISHED-TTL:P3D
REFRESH-INTERVAL:P3D
CALSCALE:GREGORIAN
BEGIN:VEVENT
DTSTART:20260505T134500Z
DTEND:20260505T150000Z
X-MICROSOFT-CDO-ALLDAYEVENT:FALSE
SUMMARY:Aqua Tots
DESCRIPTION:Spend the morning with your child exploring Mississippi's amazing aquatic environments. Learn what animals need to grow and live\, and how they survive in different habitats through hands-on activities\, games and stories.\n\n\n\nAqua Tots Program Includes:\n\n\n	Exploration of one of our habitats\n	Fun\, educational activities\, games\, and stories\n	A take-home craft\n	Your ticket will allow you to stay in the park all day after the event ends.
X-ALT-DESC;FMTTYPE=text/html:<p><span style="font-size:14px\;"><span style="color:rgb(0\, 0\, 0)">Spend the morning with your child exploring Mississippi&rsquo\;s amazing aquatic environments. Learn what animals need to grow and live\, and how they survive in different habitats through hands-on activities\, games and stories.</span><br />\n<br />\n<span style="color:rgb(0\, 0\, 0)">Aqua Tots Program Includes:</span></span></p>\n\n<ul>\n	<li><span style="font-size:14px\;"><span style="color:rgb(0\, 0\, 0)">Exploration of one of our habitats</span></span></li>\n	<li><span style="font-size:14px\;"><span style="color:rgb(0\, 0\, 0)">Fun\, educational activities\, games\, and stories</span></span></li>\n	<li><span style="font-size:14px\;"><span style="color:rgb(0\, 0\, 0)">A take-home craft</span></span></li>\n	<li><span style="font-size:14px\;"><span style="color:rgb(0\, 0\, 0)">Your ticket will allow you to stay in the park all day after the event ends.</span></span></li>\n</ul>\n
LOCATION:Mississippi Aquarium 2100 E Beach Blvd\, Gulfport\, MS 39501
UID:e.2667.34444
SEQUENCE:3
DTSTAMP:20260426T024130Z
URL:https://mscoastchamber.com/events/details/aqua-tots-05-05-2026-34444
END:VEVENT

END:VCALENDAR
