BEGIN:VCALENDAR
VERSION:2.0
PRODID:-//ChamberMaster//Event Calendar 2.0//EN
METHOD:PUBLISH
X-PUBLISHED-TTL:P3D
REFRESH-INTERVAL:P3D
CALSCALE:GREGORIAN
BEGIN:VEVENT
DTSTART:20260618T170000Z
DTEND:20260618T180000Z
X-MICROSOFT-CDO-ALLDAYEVENT:FALSE
SUMMARY:Benefits of Banking Class
DESCRIPTION:Habitat for Humanity MS Gulf Coast currently offers various financial education curriculums. All classes and coaching are currently offered free of charge\, and all courses are open to the public\, but registration is required.\n\nThis Benefits of Banking class is a great course for those with little experience using banks\; this course introduces the basics of opening and maintaining checking and savings accounts. The course addresses the hidden traps of check cashing and payday loans as well as introducing participants to the wide range of free websites available to help better manage their finances in order to reach financial goals.\n\nClass is offered in person and virtually. Participants will be supplied a link after registration. The course is offered free of charge\; however\, you must register at least 24 hours before the class at the link below.\n\n\nQuestions? Call (228) 678-9100 or email chunt@hfhmgc.org.
X-ALT-DESC;FMTTYPE=text/html:<p style="margin-left:0px\; margin-right:0px"><span style="font-size:14px"><strong>Habitat for Humanity MS Gulf Coast </strong>currently offers various financial education curriculums. All classes and coaching are currently offered free of charge\, and all courses are open to the public\, but&nbsp\;registration&nbsp\;is required.</span></p>\n\n<p style="margin-left:0px\; margin-right:0px"><span style="font-size:14px">This<strong> Benefits of Banking</strong> class is a great course for those with little experience using banks\; this course introduces the basics of opening and maintaining checking and savings accounts. The course addresses the hidden traps of check cashing and payday loans as well as introducing participants to the wide range of free websites available to help better manage their finances in order to reach financial goals.</span></p>\n\n<p style="margin-left:0px\; margin-right:0px"><span style="font-size:14px">Class is offered in person and virtually.&nbsp\;<strong><em>Participants will be supplied a link after registration</em></strong>. The course is offered free of charge\;&nbsp\;<strong><em>however\, you must register at least 24 hours before the class at the link below.</em></strong></span></p>\n\n<hr />\n<p style="margin-left:0px\; margin-right:0px"><span style="font-size:14px">Questions? Call (228) 678-9100 or email&nbsp\;<a href="mailto:chunt@hfhmgc.org">chunt@hfhmgc.org</a>.&nbsp\;</span></p>\n
LOCATION:Class is offered in person and virtually. Participants will be supplied a link after registration.
UID:e.2667.34349
SEQUENCE:3
DTSTAMP:20260426T020059Z
URL:https://mscoastchamber.com/events/details/benefits-of-banking-class-34349
END:VEVENT

END:VCALENDAR
