BEGIN:VCALENDAR
VERSION:2.0
PRODID:-//ChamberMaster//Event Calendar 2.0//EN
METHOD:PUBLISH
X-PUBLISHED-TTL:P3D
REFRESH-INTERVAL:P3D
CALSCALE:GREGORIAN
BEGIN:VEVENT
DTSTART:20260714T130000Z
DTEND:20260714T143000Z
X-MICROSOFT-CDO-ALLDAYEVENT:FALSE
SUMMARY:Biloxi Chamber Breakfast with the Mayor & Biloxi Seafood Festival Poster Unveiling hosted & sponsored by Hard Rock Casino
DESCRIPTION:Biloxi Chamber of Commerce's Breakfast with the Mayor is an opportunity for the business community to be updated on the City of Biloxi by Mayor Andrew "FoFo" Gilich. Attendees enjoy networking and breakfast. \n\n\n\nWe will present our 2026 small business\, re-occupancy and non-profit grant winners\, recognize the outstanding police officer\, fire fighter\, and airmen\, and we will unveil our 45th Annual Biloxi Seafood Festival Poster!\n\n\n\nFestival posters will be available for purchase during at the breakfast.
X-ALT-DESC;FMTTYPE=text/html:<div style="text-align: center\;">&nbsp\;</div>\n<span background-color:="" ms="" sans="" style="font-family: Arial\, Helvetica\, ">Biloxi Chamber of Commerce&#39\;s Breakfast with the Mayor is an opportunity for the business community to be updated on the City of Biloxi by Mayor Andrew &quot\;FoFo&quot\; Gilich. Attendees enjoy networking and breakfast.&nbsp\;</span><br />\n<br />\n<span background-color:="" ms="" sans="" style="font-family: Arial\, Helvetica\, ">We will present our 2026 small business\, re-occupancy and non-profit grant winners\, recognize the outstanding police officer\, fire fighter\, and airmen\, and w</span><span font-size:="" ms="" sans="" style="font-family: Arial\, Helvetica\, ">e will unveil our 45th</span><span font-size:="" ms="" sans="" style="font-family: Arial\, Helvetica\, ">&nbsp\;Annual Biloxi Seafood Festival Poster!<br />\n<br />\nFestival posters will be available for purchase during at the breakfast.</span>
LOCATION:Hard Rock Hotel & Casino\, Hard Rock Live 777 Beach Blvd.\, Biloxi\, MS 39530
UID:e.2667.34359
SEQUENCE:3
DTSTAMP:20260426T011308Z
URL:https://mscoastchamber.com/events/details/biloxi-chamber-breakfast-with-the-mayor-biloxi-seafood-festival-poster-unveiling-hosted-sponsored-by-hard-rock-casino-34359
END:VEVENT

END:VCALENDAR
