BEGIN:VCALENDAR
VERSION:2.0
PRODID:-//ChamberMaster//Event Calendar 2.0//EN
METHOD:PUBLISH
X-PUBLISHED-TTL:P3D
REFRESH-INTERVAL:P3D
CALSCALE:GREGORIAN
BEGIN:VEVENT
DTSTART:20260520T133000Z
DTEND:20260520T150000Z
X-MICROSOFT-CDO-ALLDAYEVENT:FALSE
SUMMARY:Chamber 101: Welcome Social
DESCRIPTION:
X-ALT-DESC;FMTTYPE=text/html:
LOCATION:Knight Nonprofit Center Hancock Whitney Meeting Room
UID:e.2667.34076
SEQUENCE:3
DTSTAMP:20260425T221621Z
URL:https://mscoastchamber.com/events/details/chamber-101-welcome-social-34076
END:VEVENT

END:VCALENDAR
