BEGIN:VCALENDAR
VERSION:2.0
PRODID:-//ChamberMaster//Event Calendar 2.0//EN
METHOD:PUBLISH
X-PUBLISHED-TTL:P3D
REFRESH-INTERVAL:P3D
CALSCALE:GREGORIAN
BEGIN:VEVENT
DTSTART:20260721T203000Z
DTEND:20260721T220000Z
X-MICROSOFT-CDO-ALLDAYEVENT:FALSE
SUMMARY:Chamber 101: Welcome Social
DESCRIPTION:
X-ALT-DESC;FMTTYPE=text/html:
LOCATION:Knight Nonprofit Center Hancock Whitney Meeting Room
UID:e.2667.34077
SEQUENCE:3
DTSTAMP:20260426T011158Z
URL:https://mscoastchamber.com/events/details/chamber-101-welcome-social-34077
END:VEVENT

END:VCALENDAR
