BEGIN:VCALENDAR
VERSION:2.0
PRODID:-//ChamberMaster//Event Calendar 2.0//EN
METHOD:PUBLISH
X-PUBLISHED-TTL:P3D
REFRESH-INTERVAL:P3D
CALSCALE:GREGORIAN
BEGIN:VEVENT
DTSTART:20260719T133000Z
DTEND:20260719T150000Z
X-MICROSOFT-CDO-ALLDAYEVENT:FALSE
SUMMARY:Fin & Zen Yoga
DESCRIPTION:Flow like the fish and discover nirvana at Fin & Zen Yoga\, Mississippi Aquarium's monthly fitness event. Experience yoga in the Aquarium's most captivating setting\, Aquatic Wonders. Take in the serene sights of sharks\, stingrays\, reef fishes and other sea life while you dive into body and mind alignment. Yoga Instructor Brittany Simmons will lead participants through Vinyasa yoga - a creative style of yoga that link breath and movement together in a flowing sequence. The event starts before the Aquarium opens to the public.\n\n\n\nFin and Zen Yoga wishes to bring out the happier and healthier version of YOU. There is nothing more Zen than Yoga at Mississippi Aquarium.\n\n\n\n\n\n\n\nUpcoming Dates\n\n\n\n\n\n\n\n\n\n	July 19\n	August 22\n	September 12\n	October 17\n	November 7
X-ALT-DESC;FMTTYPE=text/html:<div><span style="font-size:14px\;"><span style="font-family:arial\;">Flow like the fish and discover nirvana at Fin &amp\; Zen Yoga\, Mississippi Aquarium&#39\;s monthly fitness event. Experience yoga in the Aquarium&#39\;s most captivating setting\, Aquatic Wonders. Take in the serene sights of sharks\, stingrays\, reef fishes and other sea life while you dive into body and mind alignment. Yoga Instructor Brittany Simmons will lead participants through Vinyasa yoga - a creative style of yoga that link breath and movement together in a flowing sequence. The event starts before the Aquarium opens to the public.<br />\n<br />\nFin and Zen Yoga wishes to bring out the happier and healthier version of YOU. There is nothing more Zen than Yoga at Mississippi Aquarium.</span></span></div>\n\n<div>\n<div>\n<div>\n<div>\n<div>\n<div>\n<h3><span style="font-size:14px\;"><span style="font-family:arial\;">Upcoming Dates</span></span></h3>\n</div>\n</div>\n</div>\n</div>\n</div>\n</div>\n\n<div>\n<ul>\n	<li><span style="font-size:14px\;"><span style="font-family:arial\;">July 19</span></span></li>\n	<li><span style="font-size:14px\;"><span style="font-family:arial\;">August 22</span></span></li>\n	<li><span style="font-size:14px\;"><span style="font-family:arial\;">September 12</span></span></li>\n	<li><span style="font-size:14px\;"><span style="font-family:arial\;">October 17</span></span></li>\n	<li><span style="font-size:14px\;"><span style="font-family:arial\;">November 7</span></span></li>\n</ul>\n</div>\n
LOCATION:Mississippi Aquarium 2100 E Beach Blvd\, Gulfport\, MS 39501
UID:e.2667.34454
SEQUENCE:3
DTSTAMP:20260426T033158Z
URL:https://mscoastchamber.com/events/details/fin-zen-yoga-07-19-2026-34454
END:VEVENT

END:VCALENDAR
