BEGIN:VCALENDAR
VERSION:2.0
PRODID:-//ChamberMaster//Event Calendar 2.0//EN
METHOD:PUBLISH
X-PUBLISHED-TTL:P3D
REFRESH-INTERVAL:P3D
CALSCALE:GREGORIAN
BEGIN:VEVENT
DTSTART:20260528T170000Z
DTEND:20260528T180000Z
X-MICROSOFT-CDO-ALLDAYEVENT:FALSE
SUMMARY:Financial Recovery Class
DESCRIPTION:Habitat for Humanity MS Gulf Coast currently offers various financial education curriculums. All classes and coaching are currently offered free of charge\, and all courses are open to the public\, but registration is required.\n\n \n\nThis Financial Recovery class is designed to bring hope to families struggling to recover from a financial setback\, this course will equip participants with proactive\, practical strategies for getting back on their feet. The objective is to help participants visualize a brighter future and realize that their current financial difficulties don't have to be permanent.\n\n \n\nCurrently\, the class is offered virtually. Participants will be supplied a link after registration. The course is offered free of charge\; however\, you must register at least 24 hours before the class at the link below.\n\n\nQuestions? Call (228) 678-9100 or email chunt@hfhmgc.org.
X-ALT-DESC;FMTTYPE=text/html:<div style="margin-left:0px\; margin-right:0px"><span style="font-size:14px"><span style="font-family:arial"><strong>Habitat for Humanity MS Gulf Coast </strong>currently offers various financial education curriculums. All classes and coaching are currently offered free of charge\, and all courses are open to the public\, but&nbsp\;registration&nbsp\;is required.</span></span><br />\n&nbsp\;</div>\n\n<div style="margin-left:0px\; margin-right:0px"><span style="font-size:14px"><span style="font-family:arial">This <strong>Financial Recovery</strong> class is designed to bring hope to families struggling to recover from a financial setback\, this course will equip participants with proactive\, practical strategies for getting back on their feet. The objective is to help participants visualize a brighter future and realize that their current financial difficulties don&rsquo\;t have to be permanent.</span></span><br />\n&nbsp\;</div>\n\n<div style="margin-left:0px\; margin-right:0px"><span style="font-size:14px"><span style="font-family:arial">Currently\, the class is offered virtually.&nbsp\;<strong><em>Participants will be supplied a link after registration</em></strong>. The course is offered free of charge\;&nbsp\;<strong><em>however\, you must register at least 24 hours before the class at the link below.</em></strong></span></span></div>\n\n<hr />\n<div style="margin-left:0px\; margin-right:0px"><span style="font-size:14px"><span style="font-family:arial">Questions? Call (228) 678-9100 or email&nbsp\;<a href="mailto:chunt@hfhmgc.org">chunt@hfhmgc.org</a>.&nbsp\;</span></span></div>\n
LOCATION:Currently\, the class is offered virtually. Participants will be supplied a link after registration.
UID:e.2667.34347
SEQUENCE:3
DTSTAMP:20260426T011219Z
URL:https://mscoastchamber.com/events/details/financial-recovery-class-05-28-2026-34347
END:VEVENT

END:VCALENDAR
