BEGIN:VCALENDAR
VERSION:2.0
PRODID:-//ChamberMaster//Event Calendar 2.0//EN
METHOD:PUBLISH
X-PUBLISHED-TTL:P3D
REFRESH-INTERVAL:P3D
CALSCALE:GREGORIAN
BEGIN:VEVENT
DTSTART:20260630T200000Z
DTEND:20260630T210000Z
X-MICROSOFT-CDO-ALLDAYEVENT:FALSE
SUMMARY:Homeownership 101 - Financial Education Class
DESCRIPTION:Habitat for Humanity MS Gulf Coast currently offers various financial education curriculums. All classes and coaching are currently offered free of charge\, and all courses are open to the public\, but registration is required.\n\nHomeownership 101 Class: Homeownership can be a very rewarding yet stressful experience. This course is specifically designed for those who feel they are ready to take the leap! It will provide information needed to avoid the many pitfalls of first-time homebuyers and outline the initial steps in the beginning of your homeownership journey. This course will also dispel those pesky homeownership myths\, and help potential buyers understand the pros and cons of ownership. If you've recently been bitten by the homeownership bug this is the first of many classes to help you prepare for a lifetime of sustainable homeownership!\n\nCurrently\, the class is offered virtually. Participants will be supplied a link after registration. The course is offered free of charge\; however\, you must register at least 24 hours before the class at the link below.\n\n\nQuestions? Call (228) 678-9100 or email chunt@hfhmgc.org.
X-ALT-DESC;FMTTYPE=text/html:<div style="margin-left:0px\; margin-right:0px"><span style="font-size:14px"><span style="font-family:arial"><strong>Habitat for Humanity MS Gulf Coast </strong>currently offers various financial education curriculums. All classes and coaching are currently offered free of charge\, and all courses are open to the public\, but&nbsp\;registration&nbsp\;is required.</span></span></div>\n\n<p style="margin-left:0px\; margin-right:0px"><span style="font-size:14px"><span style="font-family:arial"><strong>Homeownership 101 Class:</strong>&nbsp\;Homeownership can be a very rewarding yet stressful experience. This course is specifically designed for those who feel they are ready to take the leap! It will provide information needed to avoid the many pitfalls of first-time homebuyers and outline the initial steps in the beginning of your homeownership journey. This course will also dispel those pesky homeownership myths\, and help potential buyers understand the pros and cons of ownership. If you&rsquo\;ve recently been bitten by the homeownership bug this is the first of many classes to help you prepare for a lifetime of sustainable homeownership!</span></span></p>\n\n<div style="margin-left:0px\; margin-right:0px"><span style="font-size:14px"><span style="font-family:arial">Currently\, the class is offered virtually.&nbsp\;<strong><em>Participants will be supplied a link after registration</em></strong>. The course is offered free of charge\;&nbsp\;<strong><em>however\, you must register at least 24 hours before the class at the link below.</em></strong></span></span></div>\n\n<hr />\n<div style="margin-left:0px\; margin-right:0px"><span style="font-size:14px"><span style="font-family:arial">Questions? Call (228) 678-9100 or email&nbsp\;<a href="mailto:chunt@hfhmgc.org">chunt@hfhmgc.org</a>.&nbsp\;</span></span></div>\n
LOCATION:Currently\, the class is offered virtually. Participants will be supplied a link after registration.
UID:e.2667.34350
SEQUENCE:3
DTSTAMP:20260426T033158Z
URL:https://mscoastchamber.com/events/details/homeownership-101-financial-education-class-06-30-2026-34350
END:VEVENT

END:VCALENDAR
