BEGIN:VCALENDAR
VERSION:2.0
PRODID:-//ChamberMaster//Event Calendar 2.0//EN
METHOD:PUBLISH
X-PUBLISHED-TTL:P3D
REFRESH-INTERVAL:P3D
CALSCALE:GREGORIAN
BEGIN:VEVENT
DTSTART:20260513T134500Z
DTEND:20260513T150000Z
X-MICROSOFT-CDO-ALLDAYEVENT:FALSE
SUMMARY:Homeschool Days
DESCRIPTION:Mississippi Aquarium welcomes homeschool families and groups to visit\, explore\, and participate in hands-on educational activities. Our themed programs are designed for students of all ages and are the perfect complement to any science curriculum.\n\n\n\n\n\n\n\n\n\n\n\n\nWhat Should Students Expect?\n\nAfter check-in\, students will meet with one of the Aquarium's educators who will introduce the week's topic. Students will then partake in hands-on\, educational activity stations\, supervised by an educator. Supplemental materials will be available to guide learning during the activity. There will be an opportunity to meet one of our animal ambassadors and tour the Aquarium at your leisure.
X-ALT-DESC;FMTTYPE=text/html:<div>\n<div>\n<div>\n<div>\n<div>\n<div>Mississippi Aquarium welcomes homeschool families and groups to visit\, explore\, and participate in hands-on educational activities. Our themed programs are designed for students of all ages and are the perfect complement to any science curriculum.</div>\n</div>\n</div>\n</div>\n</div>\n</div>\n\n<div>\n<div>\n<div>\n<div>\n<div>\n<div>\n<h4><strong>What Should Students Expect?</strong></h4>\n\n<p>After check-in\, students will meet with one of the Aquarium&#39\;s educators who will introduce the week&#39\;s topic. Students will then partake in hands-on\, educational activity stations\, supervised by an educator. Supplemental materials will be available to guide learning during the activity. There will be an opportunity to meet one of our animal ambassadors and tour the Aquarium at your leisure.</p>\n</div>\n</div>\n</div>\n</div>\n</div>\n</div>\n
LOCATION:Mississippi Aquarium 2100 E Beach Blvd\, Gulfport\, MS 39501
UID:e.2667.34448
SEQUENCE:3
DTSTAMP:20260426T024155Z
URL:https://mscoastchamber.com/events/details/homeschool-days-05-13-2026-34448
END:VEVENT

END:VCALENDAR
