BEGIN:VCALENDAR
VERSION:2.0
PRODID:-//ChamberMaster//Event Calendar 2.0//EN
METHOD:PUBLISH
X-PUBLISHED-TTL:P3D
REFRESH-INTERVAL:P3D
CALSCALE:GREGORIAN
BEGIN:VEVENT
DTSTART:20190725T223000Z
DTEND:20190726T000000Z
X-MICROSOFT-CDO-ALLDAYEVENT:FALSE
SUMMARY:Pass Christian Chamber presents Christmas in July
DESCRIPTION:Join the Pass Christian Chamber as they announce the 2019 Christmas in the Pass art contest\; take photos with Santa\; pick up art contest applications\; network\; enjoy appetizers and drink specials\; win door prizes and more at Christmas in July! *MUST BE 21 YEARS OR OLDER TO ATTEND.
X-ALT-DESC;FMTTYPE=text/html:Join the Pass Christian Chamber as they announce the 2019 Christmas in the Pass art contest\; take photos with Santa\; pick up art contest applications\; network\; enjoy appetizers and drink specials\; win door prizes and more at Christmas in July! *MUST BE 21 YEARS OR OLDER TO ATTEND.<br />\n<br />\n&nbsp\;
LOCATION:The Whiskey Bar 118 Davis Avenue Pass Christian
UID:e.2667.18939
SEQUENCE:3
DTSTAMP:20260421T180507Z
URL:https://mscoastchamber.com/events/details/pass-christian-chamber-presents-christmas-in-july-18939
END:VEVENT

END:VCALENDAR
