BEGIN:VCALENDAR
VERSION:2.0
PRODID:-//ChamberMaster//Event Calendar 2.0//EN
METHOD:PUBLISH
X-PUBLISHED-TTL:P3D
REFRESH-INTERVAL:P3D
CALSCALE:GREGORIAN
BEGIN:VEVENT
DTSTART:20260609T200000Z
DTEND:20260609T210000Z
X-MICROSOFT-CDO-ALLDAYEVENT:FALSE
SUMMARY:The Credit Game: How to Play & Win
DESCRIPTION:Habitat for Humanity MS Gulf Coast currently offers various financial education curriculums. All classes and coaching are currently offered free of charge\, and all courses are open to the public\, but registration is required.\n\nThe Credit Game: How to Play & Win class is designed for anyone who would like to better understand the many ways their credit score can affect their future and learn strategies to take control of that future today\, this course reviews the four main components that impact credit decisions\, finding and correcting errors on a credit report\, and strategies to improve credit.\n\nCurrently\, the class is offered virtually. Participants will be supplied a link after registration. The course is offered free of charge\; however\, you must register at least 24 hours before the class at the link below.\n\n\nQuestions? Call (228) 678-9100 or email chunt@hfhmgc.org.
X-ALT-DESC;FMTTYPE=text/html:<div style="margin-left:0px\; margin-right:0px"><span style="font-size:14px"><span style="font-family:arial"><strong>Habitat for Humanity MS Gulf Coast</strong> currently offers various financial education curriculums. All classes and coaching are currently offered free of charge\, and all courses are open to the public\, but&nbsp\;registration&nbsp\;is required.</span></span></div>\n\n<p style="margin-left:0px\; margin-right:0px"><span style="font-size:14px"><span style="font-family:arial"><strong>The Credit Game: How to Play &amp\; Win</strong>&nbsp\;class is&nbsp\;designed for anyone who would like to better understand the many ways their credit score can affect their future and learn strategies to take control of that future today\, this course reviews the four main components that impact credit decisions\, finding and correcting errors on a credit report\, and strategies to improve credit.</span></span></p>\n\n<div style="margin-left:0px\; margin-right:0px"><span style="font-size:14px"><span style="font-family:arial">Currently\, the class is offered virtually.&nbsp\;<strong><em>Participants will be supplied a link after registration</em></strong>. The course is offered free of charge\;&nbsp\;<strong><em>however\, you must register at least 24 hours before the class at the link below.</em></strong></span></span></div>\n\n<hr />\n<div style="margin-left:0px\; margin-right:0px"><span style="font-size:14px"><span style="font-family:arial">Questions? Call (228) 678-9100 or email&nbsp\;<a href="mailto:chunt@hfhmgc.org">chunt@hfhmgc.org</a>.&nbsp\;</span></span></div>\n
LOCATION:Currently\, the class is offered virtually. Participants will be supplied a link after registration.
UID:e.2667.34348
SEQUENCE:3
DTSTAMP:20260426T020140Z
URL:https://mscoastchamber.com/events/details/the-credit-game-how-to-play-win-06-09-2026-34348
END:VEVENT

END:VCALENDAR
